BEGIN:VCALENDAR
VERSION:2.0
PRODID:-//CareerSource Florida - ECPv6.15.20//NONSGML v1.0//EN
CALSCALE:GREGORIAN
METHOD:PUBLISH
X-WR-CALNAME:CareerSource Florida
X-ORIGINAL-URL:https://careersourceflorida.com
X-WR-CALDESC:Events for CareerSource Florida
REFRESH-INTERVAL;VALUE=DURATION:PT1H
X-Robots-Tag:noindex
X-PUBLISHED-TTL:PT1H
BEGIN:VTIMEZONE
TZID:America/New_York
BEGIN:DAYLIGHT
TZOFFSETFROM:-0500
TZOFFSETTO:-0400
TZNAME:EDT
DTSTART:20170312T070000
END:DAYLIGHT
BEGIN:STANDARD
TZOFFSETFROM:-0400
TZOFFSETTO:-0500
TZNAME:EST
DTSTART:20171105T060000
END:STANDARD
BEGIN:DAYLIGHT
TZOFFSETFROM:-0500
TZOFFSETTO:-0400
TZNAME:EDT
DTSTART:20180311T070000
END:DAYLIGHT
BEGIN:STANDARD
TZOFFSETFROM:-0400
TZOFFSETTO:-0500
TZNAME:EST
DTSTART:20181104T060000
END:STANDARD
BEGIN:DAYLIGHT
TZOFFSETFROM:-0500
TZOFFSETTO:-0400
TZNAME:EDT
DTSTART:20190310T070000
END:DAYLIGHT
BEGIN:STANDARD
TZOFFSETFROM:-0400
TZOFFSETTO:-0500
TZNAME:EST
DTSTART:20191103T060000
END:STANDARD
BEGIN:DAYLIGHT
TZOFFSETFROM:-0500
TZOFFSETTO:-0400
TZNAME:EDT
DTSTART:20200308T070000
END:DAYLIGHT
BEGIN:STANDARD
TZOFFSETFROM:-0400
TZOFFSETTO:-0500
TZNAME:EST
DTSTART:20201101T060000
END:STANDARD
BEGIN:DAYLIGHT
TZOFFSETFROM:-0500
TZOFFSETTO:-0400
TZNAME:EDT
DTSTART:20210314T070000
END:DAYLIGHT
BEGIN:STANDARD
TZOFFSETFROM:-0400
TZOFFSETTO:-0500
TZNAME:EST
DTSTART:20211107T060000
END:STANDARD
BEGIN:DAYLIGHT
TZOFFSETFROM:-0500
TZOFFSETTO:-0400
TZNAME:EDT
DTSTART:20220313T070000
END:DAYLIGHT
BEGIN:STANDARD
TZOFFSETFROM:-0400
TZOFFSETTO:-0500
TZNAME:EST
DTSTART:20221106T060000
END:STANDARD
BEGIN:DAYLIGHT
TZOFFSETFROM:-0500
TZOFFSETTO:-0400
TZNAME:EDT
DTSTART:20230312T070000
END:DAYLIGHT
BEGIN:STANDARD
TZOFFSETFROM:-0400
TZOFFSETTO:-0500
TZNAME:EST
DTSTART:20231105T060000
END:STANDARD
BEGIN:DAYLIGHT
TZOFFSETFROM:-0500
TZOFFSETTO:-0400
TZNAME:EDT
DTSTART:20240310T070000
END:DAYLIGHT
BEGIN:STANDARD
TZOFFSETFROM:-0400
TZOFFSETTO:-0500
TZNAME:EST
DTSTART:20241103T060000
END:STANDARD
END:VTIMEZONE
BEGIN:VEVENT
DTSTART;TZID=America/New_York:20230822T110000
DTEND;TZID=America/New_York:20230822T120000
DTSTAMP:20260422T043746
CREATED:20230719T151317Z
LAST-MODIFIED:20230822T185239Z
UID:10000158-1692702000-1692705600@careersourceflorida.com
SUMMARY:Strategic Policy & Performance Council Meeting
DESCRIPTION:Webinar Link: Join Webinar\nDial In (audio only): 850-629-7293 ID: 408 984 772#\n\n\n\n\n\n\n\n\n\nAdd to Calendar\n\n\n\n\n\nAdd to Outlook Calendar\n\n\n\n\n\n\n\n\n\n\n\n\n\n\n\n\nMeeting Materials\n\n\n\nThe meeting notice and agenda are provided in advance of the meeting. Any presentation materials will be added within a few days of the meeting’s conclusion. \n\n\n\n\nNOTICE\n\n\n\n\n\n\n\n\n\n\n\n\n\n\n\nAGENDA\n\n\n\n\n\n\n\n\n\nPRESENTATION\n\n\n\n\n\n\n\n\nMeeting Recording
URL:https://careersourceflorida.com/event/spp-aug-2023/
CATEGORIES:Strategic Policy & Performance Council
END:VEVENT
BEGIN:VEVENT
DTSTART;TZID=America/New_York:20230606T090000
DTEND;TZID=America/New_York:20230606T110000
DTSTAMP:20260422T043746
CREATED:20230512T213415Z
LAST-MODIFIED:20230609T165709Z
UID:10000147-1686042000-1686049200@careersourceflorida.com
SUMMARY:Strategic Policy & Performance Council Meeting
DESCRIPTION:Add to Calendar\n\n\n\n\n\nAdd to Outlook Calendar\n\n\n\n\n\n\n\n\n\n\n\n\n\n\n\n\nMeeting Materials\n\n\n\nThe meeting notice and agenda are provided in advance of the meeting. Any presentation materials will be added within a few days of the meeting’s conclusion. \n\n\n\n\nNOTICE\n\n\n\n\n\n\n\n\n\n2-DAY SCHEDULE & MAP\n\n\n\n\n\n\n\n\n\nAGENDA\n\n\n\n\n\n\n\n\n\nPRESENTATION\n\n\n\n\n\n\n\n\nMeeting Recording
URL:https://careersourceflorida.com/event/spp-jun-23/
LOCATION:Parkview at Cascades\, 414 East Bloxham Street\, Tallahassee\, FL\, 32301\, United States
CATEGORIES:Strategic Policy & Performance Council
END:VEVENT
BEGIN:VEVENT
DTSTART;TZID=America/New_York:20230222T140000
DTEND;TZID=America/New_York:20230222T160000
DTSTAMP:20260422T043746
CREATED:20221205T164620Z
LAST-MODIFIED:20230227T162415Z
UID:10000137-1677074400-1677081600@careersourceflorida.com
SUMMARY:Strategic Policy and Performance Council Meeting
DESCRIPTION:Add to Calendar\n\n\n\n Add to Outlook Calendar\n\n\n\n\n\n\n\n\n\n\n\n\n\n\n\nMeeting Materials\n\n\n\nThe meeting notice and agenda are provided in advance of the meeting. Any presentation materials will be added within a few days of the meeting’s conclusion. \n\n\n\n\nNOTICE\n\n\n\n\n\n\n\n\n\n3-DAY PROGRAM & MAP\n\n\n\n\n\n\n\n\n\nAGENDA\n\n\n\n\n\n\n\n\n\nPRESENTATION\n\n\n\n\n\n\n\n\nMeeting Recording
URL:https://careersourceflorida.com/event/spp-feb-2023/
LOCATION:DoubleTree by Hilton Tallahassee – Room: Ballroom\, 101 S. Adams Street\, Tallahassee\, FL\, 32301\, United States
CATEGORIES:Strategic Policy & Performance Council
END:VEVENT
BEGIN:VEVENT
DTSTART;TZID=America/New_York:20230221T173000
DTEND;TZID=America/New_York:20230221T193000
DTSTAMP:20260422T043746
CREATED:20230221T111156Z
LAST-MODIFIED:20230221T111157Z
UID:10000144-1677000600-1677007800@careersourceflorida.com
SUMMARY:Board of Directors Dinner
DESCRIPTION:Meeting Materials\n\n\n\nThe meeting notice and agenda are provided in advance of the meeting. Any presentation materials will be added within a few days of the meeting’s conclusion. \n\n\n\n\n\n\n\n\n\n\n3-DAY PROGRAM & MAP
URL:https://careersourceflorida.com/event/board-of-directors-dinner/
LOCATION:IL Lusso\, 201 E Park Avenue\, #100\, Tallahassee\, Florida\, 32301\, United States
CATEGORIES:Strategic Policy & Performance Council
END:VEVENT
BEGIN:VEVENT
DTSTART;TZID=America/New_York:20230221T143000
DTEND;TZID=America/New_York:20230221T160000
DTSTAMP:20260422T043746
CREATED:20230221T110616Z
LAST-MODIFIED:20230221T110617Z
UID:10000143-1676989800-1676995200@careersourceflorida.com
SUMMARY:CareerSource Capital Region Tour
DESCRIPTION:Meeting Materials\n\n\n\nThe meeting notice and agenda are provided in advance of the meeting. Any presentation materials will be added within a few days of the meeting’s conclusion. \n\n\n\n\n\n\n\n\n\n\n3-DAY PROGRAM & MAP
URL:https://careersourceflorida.com/event/careersource-capital-region-tour/
LOCATION:CareerSource Capital Region\, 2601 Blair Stone Rd\, Building C\, Suite 200\, Tallahassee\, FL\, 32301\, United States
CATEGORIES:Strategic Policy & Performance Council
END:VEVENT
BEGIN:VEVENT
DTSTART;TZID=America/New_York:20220608T140000
DTEND;TZID=America/New_York:20220608T160000
DTSTAMP:20260422T043746
CREATED:20220411T165318Z
LAST-MODIFIED:20240404T154227Z
UID:10000071-1654696800-1654704000@careersourceflorida.com
SUMMARY:Joint Council Meeting
DESCRIPTION:Strategic Policy & Performance and Finance Council\n\n\n\n\n\n\n\n\n\n\n\n\n\n\n\n\n\nAdd to Calendar\n\n\n\n\n\n\n					\n				\n					\n					Add to Google Calendar				\n			\n					\n\n\n					\n				\n					\n					Add to Outlook Calendar				\n			\n					\n\n\n\n\n\n\n\n\n\n\n\n\n\n\n\nMeeting Materials\n\n\n\nThe meeting notice and agenda are provided in advance of the meeting. Any presentation materials will be added within a few days of the meeting’s conclusion. \n\n\n\n\nNOTICE\n\n\n\n\n\n\n\n\n\n3-DAY PROGRAM & MAP\n\n\n\n\n\n\n\n\n\nAGENDA\n\n\n\n\n\n\n\n\n\nPRESENTATION\n\n\n\n\n\n\n\n\nMeeting Recording
URL:https://careersourceflorida.com/event/spp-fin-jun-2022/
LOCATION:DoubleTree by Hilton Tallahassee – Room: Ballroom\, 101 S. Adams Street\, Tallahassee\, FL\, 32301\, United States
CATEGORIES:Finance Council,Strategic Policy & Performance Council
END:VEVENT
BEGIN:VEVENT
DTSTART;TZID=America/New_York:20220216T100000
DTEND;TZID=America/New_York:20220216T120000
DTSTAMP:20260422T043746
CREATED:20220110T165831Z
LAST-MODIFIED:20220218T201551Z
UID:10000063-1645005600-1645012800@careersourceflorida.com
SUMMARY:Strategic Policy & Performance Council Meeting
DESCRIPTION:Webinar Link: Join Webinar\nDial In (audio only): 850-629-7293 ID: 949 767 451#\n\n\n\n\n\n\n\n\n\nAdd to Calendar\n\n\n\n\n\n\n					\n				\n					\n					Add to Google Calendar				\n			\n					\n\n					\n				\n					\n					Add to Outlook Calendar				\n			\n					\n\n\n\n\n\n\n\n\n\n\n\n\n\n\n\nMeeting Materials\n\n\n\nThe meeting notice and agenda are provided in advance of the meeting. Any presentation materials will be added within a few days of the meeting’s conclusion. \n\n\n\n\nNOTICE\n\n\n\n\n\n\n\n\n\nAGENDA\n\n\n\n\n\n\n\n\n\nPRESENTATION\n\n\n\n\n\n\n\n\nMeeting Recording
URL:https://careersourceflorida.com/event/spp-feb-2022/
LOCATION:Rosen Shingle Creek – Room: Conway\, 9939 Universal Boulevard\, Orlando\, FL\, 32819\, United States
CATEGORIES:Strategic Policy & Performance Council
END:VEVENT
BEGIN:VEVENT
DTSTART;TZID=America/New_York:20211208T140000
DTEND;TZID=America/New_York:20211208T160000
DTSTAMP:20260422T043746
CREATED:20210915T160106Z
LAST-MODIFIED:20220204T184352Z
UID:10000058-1638972000-1638979200@careersourceflorida.com
SUMMARY:Strategic Policy & Performance Council Meeting
DESCRIPTION:Webinar Link: Join Webinar\nDial In (audio only): 850-629-7293 ID: 986 381 020#\n\n\n\n\n\n\n\n\n\nAdd to Calendar\n\n\n\n\n\n\n					\n				\n					\n					Google Calendar				\n			\n					\n\n\n					\n				\n					\n					iCal Export				\n			\n					\n\n\n\n\n\n\n\n\n\n\n\n\n\n\n\nMeeting Materials\n\n\n\nThe meeting notice and agenda are provided in advance of the meeting. Any presentation materials will be added within a few days of the meeting’s conclusion. \n\n\n\n\nNOTICE\n\n\n\n\n\n\n\n\n\nAGENDA\n\n\n\n\n\n\n\n\n\nPRESENTATION\n\n\n\n\n\n\n\n\nMeeting Recording
URL:https://careersourceflorida.com/event/spp-dec-2021/
LOCATION:Rosen Shingle Creek – Room: Conway\, 9939 Universal Boulevard\, Orlando\, FL\, 32819\, United States
CATEGORIES:Strategic Policy & Performance Council
END:VEVENT
BEGIN:VEVENT
DTSTART;TZID=America/New_York:20210608T090000
DTEND;TZID=America/New_York:20210608T110000
DTSTAMP:20260422T043746
CREATED:20210609T200600Z
LAST-MODIFIED:20211207T162428Z
UID:10000053-1623142800-1623150000@careersourceflorida.com
SUMMARY:Strategic Policy & Performance Council Meeting
DESCRIPTION:Add to Calendar\n\n\n\n\n\n\n\n\n\n\n\n\n\n\n\n\n\nMeeting Materials\n\n\n\nThe meeting notice and agenda are provided in advance of the meeting. Any presentation materials will be added within a few days of the meeting’s conclusion. \n\n\n\n\nNOTICE\n\n\n\nAGENDA\n\n\n\nPRESENTATION\n\n\n\n\n\n\n\n\nMeeting Recording
URL:https://careersourceflorida.com/event/spp-jun-2021/
LOCATION:Sawgrass Marriott\, 1000 TPC Boulevard\, Ponte Vedra Beach\, FL\, 32082\, United States
CATEGORIES:Strategic Policy & Performance Council
END:VEVENT
BEGIN:VEVENT
DTSTART;TZID=America/New_York:20210217T140000
DTEND;TZID=America/New_York:20210217T160000
DTSTAMP:20260422T043746
CREATED:20210217T060029Z
LAST-MODIFIED:20211207T163914Z
UID:10000013-1613570400-1613577600@careersourceflorida.com
SUMMARY:Strategic Policy & Performance Council Meeting
DESCRIPTION:Add to Calendar\n\n\n\n\n\n\n\n\n\n\n\n\n\n\n\n\n\nMeeting Materials\n\n\n\nThe meeting notice and agenda are provided in advance of the meeting. Any presentation materials will be added within a few days of the meeting’s conclusion. \n\n\n\n\nNOTICE\n\n\n\nAGENDA\n\n\n\nPRESENTATION\n\n\n\n\n\n\n\n\nMeeting Recording
URL:https://careersourceflorida.com/event/spp-feb-2021/
LOCATION:Webinar
CATEGORIES:Strategic Policy & Performance Council
END:VEVENT
BEGIN:VEVENT
DTSTART;TZID=America/New_York:20200930T140000
DTEND;TZID=America/New_York:20200930T160000
DTSTAMP:20260422T043746
CREATED:20200930T163816Z
LAST-MODIFIED:20210318T165643Z
UID:10000016-1601474400-1601481600@careersourceflorida.com
SUMMARY:Strategic Policy & Performance Council Meeting
DESCRIPTION:Add to Calendar\n\n\n\n\n\n\n\n\n\n\n\n\n\n\n\n\n\nMeeting Materials\n\n\n\nThe meeting notice and agenda are provided in advance of the meeting. Any presentation materials will be added within a few days of the meeting’s conclusion. \n\n\n\n\nNOTICE\n\n\n\nAGENDA\n\n\n\nPRESENTATION\n\n\n\n\n\n\n\n\nMeeting Recording
URL:https://careersourceflorida.com/event/spp-sept-2020/
LOCATION:Rosen Shingle Creek – Room: Conway\, 9939 Universal Boulevard\, Orlando\, FL\, 32819\, United States
CATEGORIES:Strategic Policy & Performance Council
END:VEVENT
BEGIN:VEVENT
DTSTART;TZID=America/New_York:20200219T140000
DTEND;TZID=America/New_York:20200219T160000
DTSTAMP:20260422T043746
CREATED:20200219T211021Z
LAST-MODIFIED:20210318T165901Z
UID:10000027-1582120800-1582128000@careersourceflorida.com
SUMMARY:Strategic Policy & Performance Council Meeting
DESCRIPTION:Add to Calendar\n\n\n\n\n\n\n\n\n\n\n\n\n\n\n\n\n\nMeeting Materials\n\n\n\nThe meeting notice and agenda are provided in advance of the meeting. Any presentation materials will be added within a few days of the meeting’s conclusion. \n\n\n\n\nNOTICE\n\n\n\nAGENDA\n\n\n\nPRESENTATION\n\n\n\n\n\n\n\n\nMeeting Recording
URL:https://careersourceflorida.com/event/spp-feb-2020/
LOCATION:DoubleTree by Hilton Tallahassee – Room: Ballroom\, 101 S. Adams Street\, Tallahassee\, FL\, 32301\, United States
CATEGORIES:Strategic Policy & Performance Council
END:VEVENT
BEGIN:VEVENT
DTSTART;TZID=America/New_York:20190212T140000
DTEND;TZID=America/New_York:20190212T160000
DTSTAMP:20260422T043746
CREATED:20190212T065500Z
LAST-MODIFIED:20210318T180354Z
UID:10000040-1549980000-1549987200@careersourceflorida.com
SUMMARY:Strategic Policy & Performance Council Meeting
DESCRIPTION:Add to Calendar\n\n\n\n\n\n\n\n\n\n\n\n\n\n\n\n\n\nMeeting Materials\n\n\n\nThe meeting notice and agenda are provided in advance of the meeting. Any presentation materials will be added within a few days of the meeting’s conclusion. \n\n\n\n\nNOTICE\n\n\n\nAGENDA\n\n\n\nPRESENTATION
URL:https://careersourceflorida.com/event/spp-feb-2019/
LOCATION:Hotel Duval – Room: Horizon Ballroom\, 415 North Monroe Street\, Tallahassee Florida\, Florida\, 32301\, United States
CATEGORIES:Strategic Policy & Performance Council
END:VEVENT
BEGIN:VEVENT
DTSTART;TZID=America/New_York:20180925T134500
DTEND;TZID=America/New_York:20180925T144500
DTSTAMP:20260422T043746
CREATED:20180925T123200Z
LAST-MODIFIED:20210324T135737Z
UID:10000004-1537883100-1537886700@careersourceflorida.com
SUMMARY:Strategic Policy & Performance Council Meeting
DESCRIPTION:Add to Calendar\n\n\n\n\n\n\n\n\n\n\n\n\n\n\n\n\n\nMeeting Materials\n\n\n\nThe meeting notice and agenda are provided in advance of the meeting. Any presentation materials will be added within a few days of the meeting’s conclusion. \n\n\n\n\nNOTICE\n\n\n\nAGENDA\n\n\n\nPRESENTATION
URL:https://careersourceflorida.com/event/spp-sept-2018/
LOCATION:Hyatt Regency Grand Cypress – Room: Regency Hall 5-6\, One Grand Cypress Blvd.\, Orlando\, FL\, 32836\, United States
CATEGORIES:Strategic Policy & Performance Council
END:VEVENT
BEGIN:VEVENT
DTSTART;TZID=America/New_York:20180213T143000
DTEND;TZID=America/New_York:20180213T170000
DTSTAMP:20260422T043746
CREATED:20180213T185800Z
LAST-MODIFIED:20210322T180244Z
UID:10000047-1518532200-1518541200@careersourceflorida.com
SUMMARY:Strategic Policy & Performance Council Meeting
DESCRIPTION:Add to Calendar\n\n\n\n\n\n\n\n\n\n\n\n\n\n\n\n\n\nMeeting Materials\n\n\n\nThe meeting notice and agenda are provided in advance of the meeting. Any presentation materials will be added within a few days of the meeting’s conclusion. \n\n\n\n\nNOTICE\n\n\n\nAGENDA\n\n\n\nPRESENTATION
URL:https://careersourceflorida.com/event/spp-feb-2018/
LOCATION:Four Points by Sheraton Tallahassee Downtown\, 316 West Tennessee Street\, Tallahassee\, FL\, 32301\, United States
CATEGORIES:Strategic Policy & Performance Council
END:VEVENT
END:VCALENDAR